BEGIN:VCALENDAR
VERSION:2.0
PRODID:-//Camp King Industries - ECPv6.15.20//NONSGML v1.0//EN
CALSCALE:GREGORIAN
METHOD:PUBLISH
X-ORIGINAL-URL:https://campkingindustries.com.au
X-WR-CALDESC:Events for Camp King Industries
REFRESH-INTERVAL;VALUE=DURATION:PT1H
X-Robots-Tag:noindex
X-PUBLISHED-TTL:PT1H
BEGIN:VTIMEZONE
TZID:Australia/Melbourne
BEGIN:STANDARD
TZOFFSETFROM:+1100
TZOFFSETTO:+1000
TZNAME:AEST
DTSTART:20220402T160000
END:STANDARD
BEGIN:DAYLIGHT
TZOFFSETFROM:+1000
TZOFFSETTO:+1100
TZNAME:AEDT
DTSTART:20221001T160000
END:DAYLIGHT
BEGIN:STANDARD
TZOFFSETFROM:+1100
TZOFFSETTO:+1000
TZNAME:AEST
DTSTART:20230401T160000
END:STANDARD
BEGIN:DAYLIGHT
TZOFFSETFROM:+1000
TZOFFSETTO:+1100
TZNAME:AEDT
DTSTART:20230930T160000
END:DAYLIGHT
BEGIN:STANDARD
TZOFFSETFROM:+1100
TZOFFSETTO:+1000
TZNAME:AEST
DTSTART:20240406T160000
END:STANDARD
BEGIN:DAYLIGHT
TZOFFSETFROM:+1000
TZOFFSETTO:+1100
TZNAME:AEDT
DTSTART:20241005T160000
END:DAYLIGHT
END:VTIMEZONE
BEGIN:VTIMEZONE
TZID:Australia/Brisbane
BEGIN:STANDARD
TZOFFSETFROM:+1000
TZOFFSETTO:+1000
TZNAME:AEST
DTSTART:20220101T000000
END:STANDARD
END:VTIMEZONE
BEGIN:VTIMEZONE
TZID:Australia/Adelaide
BEGIN:STANDARD
TZOFFSETFROM:+1030
TZOFFSETTO:+0930
TZNAME:ACST
DTSTART:20220402T163000
END:STANDARD
BEGIN:DAYLIGHT
TZOFFSETFROM:+0930
TZOFFSETTO:+1030
TZNAME:ACDT
DTSTART:20221001T163000
END:DAYLIGHT
BEGIN:STANDARD
TZOFFSETFROM:+1030
TZOFFSETTO:+0930
TZNAME:ACST
DTSTART:20230401T163000
END:STANDARD
BEGIN:DAYLIGHT
TZOFFSETFROM:+0930
TZOFFSETTO:+1030
TZNAME:ACDT
DTSTART:20230930T163000
END:DAYLIGHT
BEGIN:STANDARD
TZOFFSETFROM:+1030
TZOFFSETTO:+0930
TZNAME:ACST
DTSTART:20240406T163000
END:STANDARD
BEGIN:DAYLIGHT
TZOFFSETFROM:+0930
TZOFFSETTO:+1030
TZNAME:ACDT
DTSTART:20241005T163000
END:DAYLIGHT
END:VTIMEZONE
BEGIN:VEVENT
DTSTART;TZID=Australia/Melbourne:20230722T100000
DTEND;TZID=Australia/Melbourne:20230722T140000
DTSTAMP:20260421T200136
CREATED:20230613T005731Z
LAST-MODIFIED:20230613T005856Z
UID:7728-1690020000-1690034400@campkingindustries.com.au
SUMMARY:Perth Open Day - New Dealer
DESCRIPTION:Camp King Industries has another Dealer in Perth\, Midland 4WD Centre and to celebrate they are hosting an Open Day to showcase the range of products that are available. We are making the trip over and will be on site all day to chat with you about your future dream build. On display will be a 79 Series Dual Cab Tray and Canopy\, Jeep Gladiator with our Outback Series and the latest addition to our Peak Series canopies\, the Ford Next Gen Ranger.
URL:https://campkingindustries.com.au/event/perth-open-day-new-dealer/
LOCATION:Midland 4WD Centre\, 1/7 Mordaunt Ct\, Canning Vale\, Western Australia\, 6155\, Australia
CATEGORIES:Open Days
ATTACH;FMTTYPE=image/jpeg:https://campkingindustries.com.au/wp-content/uploads/2023/06/CAMP-KING-INDUSTRIES-GLADIATOR-OUTBACK-SERIES-AND-MOLLE-PANEL-SHOOT-10.05.2023-Matt-Williams-LOW-RES-1007.jpg
ORGANIZER;CN="Camp King Industries":MAILTO:sales@campkingindustries.com
END:VEVENT
BEGIN:VEVENT
DTSTART;TZID=Australia/Melbourne:20230519T090000
DTEND;TZID=Australia/Melbourne:20230521T160000
DTSTAMP:20260421T200136
CREATED:20230504T023824Z
LAST-MODIFIED:20230504T042839Z
UID:7650-1684486800-1684684800@campkingindustries.com.au
SUMMARY:Overland Expo West
DESCRIPTION:Camp King founders Lucas & Sarah are heading to the USA for Overland Expo West 2023! Find them at our USA distributor Rhino Adventure Gear’s stand to discuss all things Camp King Industries\, including detailed product tours and insights into Lucas’ passion for the utmost quality in building Australia-made overland products.     Rhino Adventure Gear’s owner Joost will have his Jeep Gladiator with Camp King Outback on display\, plus other vehicles with Camp King products.      It’s the perfect opportunity to check out Camp King’s range available in the USA!
URL:https://campkingindustries.com.au/event/overland-expo-west/
LOCATION:Fort Tuthill County Park\, 2446 Ft Tuthill Lp\, Flagstaff\, Arizona\, 86005\, United States
ATTACH;FMTTYPE=image/jpeg:https://campkingindustries.com.au/wp-content/uploads/2023/05/Camp-King-Overland-Expo-West-2023-FSA12280-2000px.jpg
ORGANIZER;CN="Rhino Adventure Gear":MAILTO:sales@rhinoadventuregear.com
END:VEVENT
BEGIN:VEVENT
DTSTART;TZID=Australia/Melbourne:20230519T083000
DTEND;TZID=Australia/Melbourne:20230521T160000
DTSTAMP:20260421T200136
CREATED:20230124T040014Z
LAST-MODIFIED:20230309T010914Z
UID:6665-1684485000-1684684800@campkingindustries.com.au
SUMMARY:Mackay Expo
DESCRIPTION:Tray and Canopy\, Roof Top Tent\, Freestanding Awning Peak Series Tub Canopy and Outback Series Tub Camper all being showcased at the Mackay Expo. Top quality\, Australian made products ready for your next adventure. Come and see the team so we can help you create the touring rig you’ve always dreamed of.
URL:https://campkingindustries.com.au/event/6665/
LOCATION:Mackay Showgrounds\, Milton St\, Mackay\, QLD\, 4740\, Australia
CATEGORIES:Trade Shows
ATTACH;FMTTYPE=image/jpeg:https://campkingindustries.com.au/wp-content/uploads/2022/09/202202-Camp-King-Kookaburra-Park-2000px-FSA10843.jpg
ORGANIZER;CN="Camp King Industries":MAILTO:sales@campkingindustries.com
END:VEVENT
BEGIN:VEVENT
DTSTART;TZID=Australia/Brisbane:20230512T083000
DTEND;TZID=Australia/Brisbane:20230514T160000
DTSTAMP:20260421T200136
CREATED:20230119T025335Z
LAST-MODIFIED:20230309T010722Z
UID:6639-1683880200-1684080000@campkingindustries.com.au
SUMMARY:Townsville Expo
DESCRIPTION:Tray and Canopy\, Roof Top Tent\, Freestanding Awning\, Peak Series Tub Topper and Outback Series Tub Camper all being showcased at the Townsville Expo. Top quality\, Australian made products ready for your next adventure. Come and see the team so we can help you create the touring rig you’ve always dreamed of.
URL:https://campkingindustries.com.au/event/townsville-expo/
LOCATION:Reid Park\, Boundary St\, Railway Estate\, Townsville\, QLD\, 4810\, Australia
CATEGORIES:Trade Shows
ATTACH;FMTTYPE=image/jpeg:https://campkingindustries.com.au/wp-content/uploads/2023/01/CAMP-KING-CANOPY-AND-TRAY-PHOTOSHOOT-03.03.2023-Matt-Williams-HIGH-RES-1134-scaled.jpg
ORGANIZER;CN="Camp King Industries":MAILTO:sales@campkingindustries.com
END:VEVENT
BEGIN:VEVENT
DTSTART;TZID=Australia/Brisbane:20230325T080000
DTEND;TZID=Australia/Brisbane:20230325T130000
DTSTAMP:20260421T200136
CREATED:20230118T000036Z
LAST-MODIFIED:20230309T010951Z
UID:6634-1679731200-1679749200@campkingindustries.com.au
SUMMARY:Brisbane Open Day
DESCRIPTION:Come to the home of Camp King and view the entire range for yourself! Get hands on with the Best Roof Top Tent\, Freestanding Awning\, Tub Canopies\, Tub Campers\, Trays and Canopies you can find on the market. All Aussie Made so come and check out Camp King HQ for yourself and meet the people behind the brand.
URL:https://campkingindustries.com.au/event/brisbane-open-day/
LOCATION:Camp King Industries HQ\, 9-11 Calcium Court\, Crestmead\, QLD\, 4132\, Australia
CATEGORIES:Open Days
ATTACH;FMTTYPE=image/jpeg:https://campkingindustries.com.au/wp-content/uploads/2023/01/202202-Camp-King-Kookaburra-Park-2000px-FSA10755.jpg
ORGANIZER;CN="Camp King Industries":MAILTO:sales@campkingindustries.com
END:VEVENT
BEGIN:VEVENT
DTSTART;TZID=Australia/Adelaide:20230215T090000
DTEND;TZID=Australia/Adelaide:20230219T160000
DTSTAMP:20260421T200136
CREATED:20230117T222335Z
LAST-MODIFIED:20230124T045205Z
UID:6604-1676451600-1676822400@campkingindustries.com.au
SUMMARY:Adelaide Let's Go Caravan & Camping Show
DESCRIPTION:Join us on the TJM South Australia stand at the Adelaide Let’s Go Caravan & Camping Show to get hands-on with a range of premium Camp King touring products including Tray & Canopy\, Roof Top Tent and Freestanding Awning.
URL:https://campkingindustries.com.au/event/adelaide-lets-go-caravan-camping-show/
LOCATION:Adelaide Showgrounds\, Goodwood Rd\, Wayville\, SA\, 5034\, Australia
CATEGORIES:Trade Shows
ATTACH;FMTTYPE=image/jpeg:https://campkingindustries.com.au/wp-content/uploads/2023/01/CampKingTJM-18_1920px.jpg
ORGANIZER;CN="Camp King Industries":MAILTO:sales@campkingindustries.com
END:VEVENT
END:VCALENDAR